BEGIN:VCALENDAR
VERSION:2.0
METHOD:PUBLISH
CALSCALE:GREGORIAN
PRODID:-//Helios Calendar//EN
X-FROM-URL:https://www.aamu.edu/calendar/index.php?eID=2914
X-WR-RELCALID:AAMU Calendar Alabama Connection Graduate & Professional School Expo 20220926T100000
X-WR-TIMEZONE:Europe/London
X-WR-CALNAME:AAMU Calendar
BEGIN:VEVENT
URL;VALUE=URI:https://www.aamu.edu/calendar/index.php?eID=2914
DTSTART:20220926T100000
DTEND:20220926T120000
SUMMARY:Alabama Connection Graduate & Professional School Expo
DESCRIPTION:Career Development Services is a co-host for this annual statewide graduate and professional school recruiting event where graduate school admissions representatives nationwide are on hand to disseminate... For complete event details please visit:  https://www.aamu.edu/calendar/?eID=2914\n______________________________\nEvent Downloaded Powered by OU Calendar
LOCATION:Ernest Knight Reception Center -  \, \, AL  
CATEGORIES:AAMU Calendar Events
PRIORITY:0
TRANSP:TRANSPARENT
END:VEVENT
END:VCALENDAR