BEGIN:VCALENDAR
VERSION:2.0
METHOD:PUBLISH
CALSCALE:GREGORIAN
PRODID:-//Helios Calendar//EN
X-FROM-URL:https://www.aamu.edu/calendar/index.php?eID=2917
X-WR-RELCALID:AAMU Calendar Writing Workshop--How to Say More 20220621T123000
X-WR-TIMEZONE:Europe/London
X-WR-CALNAME:AAMU Calendar
BEGIN:VEVENT
URL;VALUE=URI:https://www.aamu.edu/calendar/index.php?eID=2917
DTSTART:20220621T123000
DTEND:20220621T133000
SUMMARY:Writing Workshop--How to Say More
DESCRIPTION:Feeling stuck? Have pages to fill\, but not sure what more to say? Join today's workshop for ideas on how to add content instead of fluff.Today at 12:30pJoin by Zoom: 931 8487 6479 For complete event details please visit:  https://www.aamu.edu/calendar/?eID=2917\n______________________________\nEvent Downloaded Powered by OU Calendar
LOCATION:Zoom Meeting - Zoom Meeting \, Huntsville\, AL  35810
CATEGORIES:AAMU Calendar Events
PRIORITY:0
TRANSP:TRANSPARENT
END:VEVENT
END:VCALENDAR