BEGIN:VCALENDAR
VERSION:2.0
METHOD:PUBLISH
CALSCALE:GREGORIAN
PRODID:-//Helios Calendar//EN
X-FROM-URL:https://www.aamu.edu/calendar/index.php?eID=3150
X-WR-RELCALID:AAMU Calendar 100K Strong AAMU/LASABANA/UNIMINUTO Award Program--North Mobility Program at AAMU 20220822T080000
X-WR-TIMEZONE:Europe/London
X-WR-CALNAME:AAMU Calendar
BEGIN:VEVENT
URL;VALUE=URI:https://www.aamu.edu/calendar/index.php?eID=3150
DTSTART:20220822T080000
DTEND:20220822T140000
SUMMARY:100K Strong AAMU/LASABANA/UNIMINUTO Award Program--North Mobility Program at AAMU
DESCRIPTION:Corporación Universitaria Minuto de Dios (UNIMINUTO) and Universidad de La Sabana (La Sabana) have partnered with Alabama A&M University (AAMU)\, in order to develop an innovative exchange... For complete event details please visit:  https://www.aamu.edu/calendar/?eID=3150\n______________________________\nEvent Downloaded Powered by OU Calendar
LOCATION:Xia (Amy) Zhang - 4900 Meridian Street \, Huntsville\, AL  35758
CATEGORIES:AAMU Calendar Events
PRIORITY:0
TRANSP:TRANSPARENT
END:VEVENT
END:VCALENDAR