BEGIN:VCALENDAR
VERSION:2.0
METHOD:PUBLISH
CALSCALE:GREGORIAN
PRODID:-//Helios Calendar//EN
X-FROM-URL:https://www.aamu.edu/calendar/index.php?eID=3182
X-WR-RELCALID:AAMU Calendar THRIVE Thursday 20220915T100000
X-WR-TIMEZONE:Europe/London
X-WR-CALNAME:AAMU Calendar
BEGIN:VEVENT
URL;VALUE=URI:https://www.aamu.edu/calendar/index.php?eID=3182
DTSTART:20220915T100000
DTEND:20220915T140000
SUMMARY:THRIVE Thursday
DESCRIPTION:THRIVE Alabama will be offering free HIV testing and sexual health resources. For complete event details please visit:  https://www.aamu.edu/calendar/?eID=3182\n______________________________\nEvent Downloaded Powered by OU Calendar
LOCATION:Student Health and Wellness Center (SHWC) -  \, \, AL  
CATEGORIES:AAMU Calendar Events
PRIORITY:0
TRANSP:TRANSPARENT
END:VEVENT
END:VCALENDAR