BEGIN:VCALENDAR
VERSION:2.0
METHOD:PUBLISH
CALSCALE:GREGORIAN
PRODID:-//Helios Calendar//EN
X-FROM-URL:https://www.aamu.edu/calendar/index.php?eID=3192
X-WR-RELCALID:AAMU Calendar Open House 20220909T100000
X-WR-TIMEZONE:Europe/London
X-WR-CALNAME:AAMU Calendar
BEGIN:VEVENT
URL;VALUE=URI:https://www.aamu.edu/calendar/index.php?eID=3192
DTSTART:20220909T100000
DTEND:20220909T140000
SUMMARY:Open House
DESCRIPTION:Join us for a tour of the Health and Counseling Center and obtain valuable campus and community resources. For complete event details please visit:  https://www.aamu.edu/calendar/?eID=3192\n______________________________\nEvent Downloaded Powered by OU Calendar
LOCATION:Student Health and Wellness Center (SHWC) -  \, \, AL  
CATEGORIES:AAMU Calendar Events
PRIORITY:0
TRANSP:TRANSPARENT
END:VEVENT
END:VCALENDAR