BEGIN:VCALENDAR
VERSION:2.0
METHOD:PUBLISH
CALSCALE:GREGORIAN
PRODID:-//Helios Calendar//EN
X-FROM-URL:https://www.aamu.edu/calendar/index.php?eID=3193
X-WR-RELCALID:AAMU Calendar TALK TUESDAY 20220913T120000
X-WR-TIMEZONE:Europe/London
X-WR-CALNAME:AAMU Calendar
BEGIN:VEVENT
URL;VALUE=URI:https://www.aamu.edu/calendar/index.php?eID=3193
DTSTART:20220913T120000
DTEND:20220913T130000
SUMMARY:TALK TUESDAY
DESCRIPTION:Bring your lunch and join Health and Counseling staff for lunch and learn about suicide prevention and awareness. For complete event details please visit:  https://www.aamu.edu/calendar/?eID=3193\n______________________________\nEvent Downloaded Powered by OU Calendar
LOCATION:Ernest Knight Reception Center -  \, \, AL  
CATEGORIES:AAMU Calendar Events
PRIORITY:0
TRANSP:TRANSPARENT
END:VEVENT
END:VCALENDAR