BEGIN:VCALENDAR
VERSION:2.0
METHOD:PUBLISH
CALSCALE:GREGORIAN
PRODID:-//Helios Calendar//EN
X-FROM-URL:https://www.aamu.edu/calendar/index.php?eID=3201
X-WR-RELCALID:AAMU Calendar  Fall 2022 International Student Orientation (Virtual) 20220908T123000
X-WR-TIMEZONE:Europe/London
X-WR-CALNAME:AAMU Calendar
BEGIN:VEVENT
URL;VALUE=URI:https://www.aamu.edu/calendar/index.php?eID=3201
DTSTART:20220908T123000
DTEND:20220908T140000
SUMMARY: Fall 2022 International Student Orientation (Virtual)
DESCRIPTION:The Fall 2022 International Student Orientation is scheduled for Thursday\, September 8\, 2022 at 12:30pm.  Registration link:  https://aamu.zoom.us/meeting/register/tJAqde2przwp... For complete event details please visit:  https://www.aamu.edu/calendar/?eID=3201\n______________________________\nEvent Downloaded Powered by OU Calendar
LOCATION:Zoom Meeting - Zoom Meeting \, Huntsville\, AL  35810
CATEGORIES:AAMU Calendar Events
PRIORITY:0
TRANSP:TRANSPARENT
END:VEVENT
END:VCALENDAR