BEGIN:VCALENDAR
VERSION:2.0
METHOD:PUBLISH
CALSCALE:GREGORIAN
PRODID:-//Helios Calendar//EN
X-FROM-URL:https://www.aamu.edu/calendar/index.php?eID=3203
X-WR-RELCALID:AAMU Calendar Fall 2022 Writing Workshop (Thesis/Dissertation Formatting) 20221013T123000
X-WR-TIMEZONE:Europe/London
X-WR-CALNAME:AAMU Calendar
BEGIN:VEVENT
URL;VALUE=URI:https://www.aamu.edu/calendar/index.php?eID=3203
DTSTART:20221013T123000
DTEND:20221013T123000
SUMMARY:Fall 2022 Writing Workshop (Thesis/Dissertation Formatting)
DESCRIPTION:Thesis/Dissertation FormattingThursday\, October 1312:30 p.m.Zoom ID: 781 780 7730 For complete event details please visit:  https://www.aamu.edu/calendar/?eID=3203\n______________________________\nEvent Downloaded Powered by OU Calendar
LOCATION:Virtual -  \, \,   
CATEGORIES:AAMU Calendar Events
PRIORITY:0
TRANSP:TRANSPARENT
END:VEVENT
END:VCALENDAR