BEGIN:VCALENDAR
VERSION:2.0
METHOD:PUBLISH
CALSCALE:GREGORIAN
PRODID:-//Helios Calendar//EN
X-FROM-URL:https://www.aamu.edu/calendar/index.php?eID=3204
X-WR-RELCALID:AAMU Calendar Fall 2022 Writing Workshop (Master's Research Report Formatting) 20220927T140000
X-WR-TIMEZONE:Europe/London
X-WR-CALNAME:AAMU Calendar
BEGIN:VEVENT
URL;VALUE=URI:https://www.aamu.edu/calendar/index.php?eID=3204
DTSTART:20220927T140000
DTEND:20220927T140000
SUMMARY:Fall 2022 Writing Workshop (Master's Research Report Formatting)
DESCRIPTION:Master's Research Report FormattingTuesday\, September 272:00 p.m.Zoom ID: 736 686 0016 For complete event details please visit:  https://www.aamu.edu/calendar/?eID=3204\n______________________________\nEvent Downloaded Powered by OU Calendar
LOCATION:Virtual -  \, \,   
CATEGORIES:AAMU Calendar Events
PRIORITY:0
TRANSP:TRANSPARENT
END:VEVENT
END:VCALENDAR