BEGIN:VCALENDAR
VERSION:2.0
METHOD:PUBLISH
CALSCALE:GREGORIAN
PRODID:-//Helios Calendar//EN
X-FROM-URL:https://www.aamu.edu/calendar/index.php?eID=3207
X-WR-RELCALID:AAMU Calendar Back-2-Basics: Gardening & Landscaping Series 20220928T100000
X-WR-TIMEZONE:Europe/London
X-WR-CALNAME:AAMU Calendar
BEGIN:VEVENT
URL;VALUE=URI:https://www.aamu.edu/calendar/index.php?eID=3207
DTSTART:20220928T100000
DTEND:20220928T110000
SUMMARY:Back-2-Basics: Gardening & Landscaping Series
DESCRIPTION:Join Alabama Extension's Home Grounds team online to learn the basics of limited-space gardening and landscaping for urban areas.This educational webinar series provides adult online training on... For complete event details please visit:  https://www.aamu.edu/calendar/?eID=3207\n______________________________\nEvent Downloaded Powered by OU Calendar
LOCATION:Zoom Meeting - Zoom Meeting \, Huntsville\, AL  35810
CATEGORIES:AAMU Calendar Events
PRIORITY:0
TRANSP:TRANSPARENT
END:VEVENT
END:VCALENDAR