BEGIN:VCALENDAR
VERSION:2.0
METHOD:PUBLISH
CALSCALE:GREGORIAN
PRODID:-//Helios Calendar//EN
X-FROM-URL:https://www.aamu.edu/calendar/index.php?eID=3208
X-WR-RELCALID:AAMU Calendar Curricular Practical Training and Optional Practical Training Webinar 20221006T123000
X-WR-TIMEZONE:Europe/London
X-WR-CALNAME:AAMU Calendar
BEGIN:VEVENT
URL;VALUE=URI:https://www.aamu.edu/calendar/index.php?eID=3208
DTSTART:20221006T123000
DTEND:20221006T123000
SUMMARY:Curricular Practical Training and Optional Practical Training Webinar
DESCRIPTION:The process of how to apply for Curricular Practical Training (CPT) and Optional Practical Training (OPT) will be discussed.Registration link is https://aamu.zoom.us/meeting/register/tJAkdOmt... For complete event details please visit:  https://www.aamu.edu/calendar/?eID=3208\n______________________________\nEvent Downloaded Powered by OU Calendar
LOCATION:Zoom Meeting - Zoom Meeting \, Huntsville\, AL  35810
CATEGORIES:AAMU Calendar Events
PRIORITY:0
TRANSP:TRANSPARENT
END:VEVENT
END:VCALENDAR