BEGIN:VCALENDAR
VERSION:2.0
METHOD:PUBLISH
CALSCALE:GREGORIAN
PRODID:-//Helios Calendar//EN
X-FROM-URL:https://www.aamu.edu/calendar/index.php?eID=3209
X-WR-RELCALID:AAMU Calendar 2022 National Transfer Student Week - Treats With Transfers 20221010T150000
X-WR-TIMEZONE:Europe/London
X-WR-CALNAME:AAMU Calendar
BEGIN:VEVENT
URL;VALUE=URI:https://www.aamu.edu/calendar/index.php?eID=3209
DTSTART:20221010T150000
DTEND:20221010T170000
SUMMARY:2022 National Transfer Student Week - Treats With Transfers
DESCRIPTION:Come and enjoy treats with our Transfer Students as we kick off 2022 National Transfer Student Week.Bring a New Pair of Socks\, to support the Service Project at Floyd "Tut" Fann Veterans Home. For complete event details please visit:  https://www.aamu.edu/calendar/?eID=3209\n______________________________\nEvent Downloaded Powered by OU Calendar
LOCATION:Ralph Lee Student Center -  \, \, AL  
CATEGORIES:AAMU Calendar Events
PRIORITY:0
TRANSP:TRANSPARENT
END:VEVENT
END:VCALENDAR