BEGIN:VCALENDAR
VERSION:2.0
METHOD:PUBLISH
CALSCALE:GREGORIAN
PRODID:-//Helios Calendar//EN
X-FROM-URL:https://www.aamu.edu/calendar/index.php?eID=3214
X-WR-RELCALID:AAMU Calendar Mental Illness Awareness Week 20221006T110000
X-WR-TIMEZONE:Europe/London
X-WR-CALNAME:AAMU Calendar
BEGIN:VEVENT
URL;VALUE=URI:https://www.aamu.edu/calendar/index.php?eID=3214
DTSTART:20221006T110000
DTEND:20221006T140000
SUMMARY:Mental Illness Awareness Week
DESCRIPTION:Come receive educational literature about Mental Health. For complete event details please visit:  https://www.aamu.edu/calendar/?eID=3214\n______________________________\nEvent Downloaded Powered by OU Calendar
LOCATION:Foster Residence Hall -  \, \,   
CATEGORIES:AAMU Calendar Events
PRIORITY:0
TRANSP:TRANSPARENT
END:VEVENT
END:VCALENDAR