BEGIN:VCALENDAR
VERSION:2.0
METHOD:PUBLISH
CALSCALE:GREGORIAN
PRODID:-//Helios Calendar//EN
X-FROM-URL:https://www.aamu.edu/calendar/index.php?eID=3215
X-WR-RELCALID:AAMU Calendar National Coming Out Day 20221011T110000
X-WR-TIMEZONE:Europe/London
X-WR-CALNAME:AAMU Calendar
BEGIN:VEVENT
URL;VALUE=URI:https://www.aamu.edu/calendar/index.php?eID=3215
DTSTART:20221011T110000
DTEND:20221011T140000
SUMMARY:National Coming Out Day
DESCRIPTION:Come join us for fun and games in support of or LGBTQ+ students. For complete event details please visit:  https://www.aamu.edu/calendar/?eID=3215\n______________________________\nEvent Downloaded Powered by OU Calendar
LOCATION:The Quad -  \, \, AL  
CATEGORIES:AAMU Calendar Events
PRIORITY:0
TRANSP:TRANSPARENT
END:VEVENT
END:VCALENDAR