BEGIN:VCALENDAR
VERSION:2.0
METHOD:PUBLISH
CALSCALE:GREGORIAN
PRODID:-//Helios Calendar//EN
X-FROM-URL:https://www.aamu.edu/calendar/index.php?eID=3216
X-WR-RELCALID:AAMU Calendar 2022 National Transfer Student Week - FUNdaMENTAL Webinar via Zoom 20221011T123000
X-WR-TIMEZONE:Europe/London
X-WR-CALNAME:AAMU Calendar
BEGIN:VEVENT
URL;VALUE=URI:https://www.aamu.edu/calendar/index.php?eID=3216
DTSTART:20221011T123000
DTEND:20221011T123000
SUMMARY:2022 National Transfer Student Week - FUNdaMENTAL Webinar via Zoom
DESCRIPTION:Skills to help Transfer Students with Time Management\, School/Work/Social Balance\, Successful Goal Setting Tips\, etc. For complete event details please visit:  https://www.aamu.edu/calendar/?eID=3216\n______________________________\nEvent Downloaded Powered by OU Calendar
LOCATION:Zoom Meeting - Zoom Meeting \, Huntsville\, AL  35810
CATEGORIES:AAMU Calendar Events
PRIORITY:0
TRANSP:TRANSPARENT
END:VEVENT
END:VCALENDAR