BEGIN:VCALENDAR
VERSION:2.0
METHOD:PUBLISH
CALSCALE:GREGORIAN
PRODID:-//Helios Calendar//EN
X-FROM-URL:https://www.aamu.edu/calendar/index.php?eID=3217
X-WR-RELCALID:AAMU Calendar 2022 National Transfer Student Week -  Something to TACOabout 20221011T173000
X-WR-TIMEZONE:Europe/London
X-WR-CALNAME:AAMU Calendar
BEGIN:VEVENT
URL;VALUE=URI:https://www.aamu.edu/calendar/index.php?eID=3217
DTSTART:20221011T173000
DTEND:20221011T173000
SUMMARY:2022 National Transfer Student Week -  Something to TACOabout
DESCRIPTION:Transfer Students Dinner - Dutch Treat at Wilson Dining HallTime to Mingle and Talk about Topics/Concerns that Transfer Students want to address For complete event details please visit:  https://www.aamu.edu/calendar/?eID=3217\n______________________________\nEvent Downloaded Powered by OU Calendar
LOCATION:Wilson Dining Hall - 4900 Meridian Street Meridian Street\, Normal\,\, AL USA 35762
CATEGORIES:AAMU Calendar Events
PRIORITY:0
TRANSP:TRANSPARENT
END:VEVENT
END:VCALENDAR