BEGIN:VCALENDAR
VERSION:2.0
METHOD:PUBLISH
CALSCALE:GREGORIAN
PRODID:-//Helios Calendar//EN
X-FROM-URL:https://www.aamu.edu/calendar/index.php?eID=3218
X-WR-RELCALID:AAMU Calendar 2022 National Transfer Student Week -  Who’s Got Game 20221012T180000
X-WR-TIMEZONE:Europe/London
X-WR-CALNAME:AAMU Calendar
BEGIN:VEVENT
URL;VALUE=URI:https://www.aamu.edu/calendar/index.php?eID=3218
DTSTART:20221012T180000
DTEND:20221012T200000
SUMMARY:2022 National Transfer Student Week -  Who’s Got Game
DESCRIPTION:Game Night for Transfer Students at the Bulldog Lounge in the Ralph Lee Student Center For complete event details please visit:  https://www.aamu.edu/calendar/?eID=3218\n______________________________\nEvent Downloaded Powered by OU Calendar
LOCATION:Ralph Lee Student Center -  \, \, AL  
CATEGORIES:AAMU Calendar Events
PRIORITY:0
TRANSP:TRANSPARENT
END:VEVENT
END:VCALENDAR