BEGIN:VCALENDAR
VERSION:2.0
METHOD:PUBLISH
CALSCALE:GREGORIAN
PRODID:-//Helios Calendar//EN
X-FROM-URL:https://www.aamu.edu/calendar/index.php?eID=3219
X-WR-RELCALID:AAMU Calendar 2022 National Transfer Student Week -  Swag Swap 20221013T120000
X-WR-TIMEZONE:Europe/London
X-WR-CALNAME:AAMU Calendar
BEGIN:VEVENT
URL;VALUE=URI:https://www.aamu.edu/calendar/index.php?eID=3219
DTSTART:20221013T120000
DTEND:20221013T140000
SUMMARY:2022 National Transfer Student Week -  Swag Swap
DESCRIPTION:Transfer Students can trade/swap their former college/university gear for AAMU Swag at the Bulldog Lounge in the Ralph Lee Student Center. For complete event details please visit:  https://www.aamu.edu/calendar/?eID=3219\n______________________________\nEvent Downloaded Powered by OU Calendar
LOCATION:Ralph Lee Student Center -  \, \, AL  
CATEGORIES:AAMU Calendar Events
PRIORITY:0
TRANSP:TRANSPARENT
END:VEVENT
END:VCALENDAR