BEGIN:VCALENDAR
VERSION:2.0
METHOD:PUBLISH
CALSCALE:GREGORIAN
PRODID:-//Helios Calendar//EN
X-FROM-URL:https://www.aamu.edu/calendar/index.php?eID=3220
X-WR-RELCALID:AAMU Calendar Master's Hooding Ceremony 20221207T120000
X-WR-TIMEZONE:Europe/London
X-WR-CALNAME:AAMU Calendar
BEGIN:VEVENT
URL;VALUE=URI:https://www.aamu.edu/calendar/index.php?eID=3220
DTSTART:20221207T120000
DTEND:20221207T120000
SUMMARY:Master's Hooding Ceremony
DESCRIPTION:Please join us to celebrate and recognize the accomplishments of our 2022 Fall graduates.  Hosted by the Graduate Student Success Center\, a division of the Office of Graduate Studies.  December... For complete event details please visit:  https://www.aamu.edu/calendar/?eID=3220\n______________________________\nEvent Downloaded Powered by OU Calendar
LOCATION:Ernest Knight Reception Center -  \, \, AL  
CATEGORIES:AAMU Calendar Events
PRIORITY:0
TRANSP:TRANSPARENT
END:VEVENT
END:VCALENDAR