BEGIN:VCALENDAR
VERSION:2.0
METHOD:PUBLISH
CALSCALE:GREGORIAN
PRODID:-//Helios Calendar//EN
X-FROM-URL:https://www.aamu.edu/calendar/index.php?eID=3221
X-WR-RELCALID:AAMU Calendar Grad Mixer - School of Graduate Studies 20221013T170000
X-WR-TIMEZONE:Europe/London
X-WR-CALNAME:AAMU Calendar
BEGIN:VEVENT
URL;VALUE=URI:https://www.aamu.edu/calendar/index.php?eID=3221
DTSTART:20221013T170000
DTEND:20221013T190000
SUMMARY:Grad Mixer - School of Graduate Studies
DESCRIPTION:Attention all Graduate students!The School of Graduate Studies is hosting a Grad mixer in the Graduate Student Lounge. The Graduate Student Lounge is located on the first floor in the Library\, next... For complete event details please visit:  https://www.aamu.edu/calendar/?eID=3221\n______________________________\nEvent Downloaded Powered by OU Calendar
LOCATION:Learning Resources Center   - 4900 Meridian Street Learning Resource Center\, Normal\, AL United States 35762
CATEGORIES:AAMU Calendar Events
PRIORITY:0
TRANSP:TRANSPARENT
END:VEVENT
END:VCALENDAR