BEGIN:VCALENDAR
VERSION:2.0
METHOD:PUBLISH
CALSCALE:GREGORIAN
PRODID:-//Helios Calendar//EN
X-FROM-URL:https://www.aamu.edu/calendar/index.php?eID=3222
X-WR-RELCALID:AAMU Calendar Fall 2022 Community Garden Expo 20221101T080000
X-WR-TIMEZONE:Europe/London
X-WR-CALNAME:AAMU Calendar
BEGIN:VEVENT
URL;VALUE=URI:https://www.aamu.edu/calendar/index.php?eID=3222
DTSTART:20221101T080000
DTEND:20221101T160000
SUMMARY:Fall 2022 Community Garden Expo
DESCRIPTION:Join the Alabama Cooperative Extension System's home grounds team for its Fall Community Garden Expo on Tuesday\, November 1 from 8:00 a.m. to 4:00 p.m. The event will be held at Birmingham Botanical... For complete event details please visit:  https://www.aamu.edu/calendar/?eID=3222\n______________________________\nEvent Downloaded Powered by OU Calendar
LOCATION:Birmingham Botanical Gardens - 2612 Lane Park Road  \, Birmingham\, AL United States 35223
CATEGORIES:AAMU Calendar Events
PRIORITY:0
TRANSP:TRANSPARENT
END:VEVENT
END:VCALENDAR