BEGIN:VCALENDAR
VERSION:2.0
METHOD:PUBLISH
CALSCALE:GREGORIAN
PRODID:-//Helios Calendar//EN
X-FROM-URL:https://www.aamu.edu/calendar/index.php?eID=3249
X-WR-RELCALID:AAMU Calendar Successful Aging Initiative Expo 20221027T090000
X-WR-TIMEZONE:Europe/London
X-WR-CALNAME:AAMU Calendar
BEGIN:VEVENT
URL;VALUE=URI:https://www.aamu.edu/calendar/index.php?eID=3249
DTSTART:20221027T090000
DTEND:20221027T130000
SUMMARY:Successful Aging Initiative Expo
DESCRIPTION:The Virginia Caples Lifelong Learning InstituteAlabama Cooperative Extension System at AAMUSuccessful Aging Initiative 2022 Thursday\, October 27\, 20229:00 a.m. – 1:00 p.m.On the... For complete event details please visit:  https://www.aamu.edu/calendar/?eID=3249\n______________________________\nEvent Downloaded Powered by OU Calendar
LOCATION:Union Chapel Missionary Baptist Church  - 315 Winchester Road Huntsville\, Normal\, AL United States 35811
CATEGORIES:AAMU Calendar Events
PRIORITY:0
TRANSP:TRANSPARENT
END:VEVENT
END:VCALENDAR