BEGIN:VCALENDAR
VERSION:2.0
METHOD:PUBLISH
CALSCALE:GREGORIAN
PRODID:-//Helios Calendar//EN
X-FROM-URL:https://www.aamu.edu/calendar/index.php?eID=3256
X-WR-RELCALID:AAMU Calendar 2022 International Education Week 'Mental Health Monday' Virtual Discussion  20221114T180000
X-WR-TIMEZONE:Europe/London
X-WR-CALNAME:AAMU Calendar
BEGIN:VEVENT
URL;VALUE=URI:https://www.aamu.edu/calendar/index.php?eID=3256
DTSTART:20221114T180000
DTEND:20221114T200000
SUMMARY:2022 International Education Week 'Mental Health Monday' Virtual Discussion 
DESCRIPTION:International Education Week collaboration between CCRGI and Health and Counseling Services\, presenting a Virtual Discussion with International Students and Mental Health Professionals on special... For complete event details please visit:  https://www.aamu.edu/calendar/?eID=3256\n______________________________\nEvent Downloaded Powered by OU Calendar
LOCATION:Virtual - NA NA\, NA\, AL NA NA
CATEGORIES:AAMU Calendar Events
PRIORITY:0
TRANSP:TRANSPARENT
END:VEVENT
END:VCALENDAR