BEGIN:VCALENDAR
VERSION:2.0
METHOD:PUBLISH
CALSCALE:GREGORIAN
PRODID:-//Helios Calendar//EN
X-FROM-URL:https://www.aamu.edu/calendar/index.php?eID=3257
X-WR-RELCALID:AAMU Calendar 2022 International Education Week 'Diversity Talks' Panel Discussion  20221115T140000
X-WR-TIMEZONE:Europe/London
X-WR-CALNAME:AAMU Calendar
BEGIN:VEVENT
URL;VALUE=URI:https://www.aamu.edu/calendar/index.php?eID=3257
DTSTART:20221115T140000
DTEND:20221115T152000
SUMMARY:2022 International Education Week 'Diversity Talks' Panel Discussion 
DESCRIPTION:Round Table Panel Discussion with Moderators AAMU International Students discussing the role of Diversity in their Community\, as Students and Global Citizens.  This discussion is hosted by the... For complete event details please visit:  https://www.aamu.edu/calendar/?eID=3257\n______________________________\nEvent Downloaded Powered by OU Calendar
LOCATION:Bibb Graves Hall -  \, \, AL  
CATEGORIES:AAMU Calendar Events
PRIORITY:0
TRANSP:TRANSPARENT
END:VEVENT
END:VCALENDAR