BEGIN:VCALENDAR
VERSION:2.0
METHOD:PUBLISH
CALSCALE:GREGORIAN
PRODID:-//Helios Calendar//EN
X-FROM-URL:https://www.aamu.edu/calendar/index.php?eID=3258
X-WR-RELCALID:AAMU Calendar 2022 International Education Week 'Human Trafficking and Child Abduction' Discussion 20221115T180000
X-WR-TIMEZONE:Europe/London
X-WR-CALNAME:AAMU Calendar
BEGIN:VEVENT
URL;VALUE=URI:https://www.aamu.edu/calendar/index.php?eID=3258
DTSTART:20221115T180000
DTEND:20221115T193000
SUMMARY:2022 International Education Week 'Human Trafficking and Child Abduction' Discussion
DESCRIPTION:A collaboration between the Offices of Service and Learning and Community College Relations and Global Initiatives\, Dr. Noelle Hunter will be giving a presentation on "Human Trafficking and Child... For complete event details please visit:  https://www.aamu.edu/calendar/?eID=3258\n______________________________\nEvent Downloaded Powered by OU Calendar
LOCATION:Clyde Foster Multipurpose Room -  \, \, AL  
CATEGORIES:AAMU Calendar Events
PRIORITY:0
TRANSP:TRANSPARENT
END:VEVENT
END:VCALENDAR