BEGIN:VCALENDAR
VERSION:2.0
METHOD:PUBLISH
CALSCALE:GREGORIAN
PRODID:-//Helios Calendar//EN
X-FROM-URL:https://www.aamu.edu/calendar/index.php?eID=3259
X-WR-RELCALID:AAMU Calendar 2022 International Education Week 'Becoming A Global Citizen' Panel Discussion  20221116T180000
X-WR-TIMEZONE:Europe/London
X-WR-CALNAME:AAMU Calendar
BEGIN:VEVENT
URL;VALUE=URI:https://www.aamu.edu/calendar/index.php?eID=3259
DTSTART:20221116T180000
DTEND:20221116T200000
SUMMARY:2022 International Education Week 'Becoming A Global Citizen' Panel Discussion 
DESCRIPTION:International Education Week Panel Discussion about what it means to become a "Global Citizen" as an International Student. This is a presentation between COPBA and CCRGI. This Discussion is both... For complete event details please visit:  https://www.aamu.edu/calendar/?eID=3259\n______________________________\nEvent Downloaded Powered by OU Calendar
LOCATION:Clyde Foster Multipurpose Room -  \, \, AL  
CATEGORIES:AAMU Calendar Events
PRIORITY:0
TRANSP:TRANSPARENT
END:VEVENT
END:VCALENDAR