BEGIN:VCALENDAR
VERSION:2.0
METHOD:PUBLISH
CALSCALE:GREGORIAN
PRODID:-//Helios Calendar//EN
X-FROM-URL:https://www.aamu.edu/calendar/index.php?eID=3260
X-WR-RELCALID:AAMU Calendar 2022 International Education Week 'Cultural Parade' at MLK Elementary  20221116T130000
X-WR-TIMEZONE:Europe/London
X-WR-CALNAME:AAMU Calendar
BEGIN:VEVENT
URL;VALUE=URI:https://www.aamu.edu/calendar/index.php?eID=3260
DTSTART:20221116T130000
DTEND:20221116T130000
SUMMARY:2022 International Education Week 'Cultural Parade' at MLK Elementary 
DESCRIPTION:The International Students Association from AAMU representing different Countries will showcase their Cultural Attire to the Elementary Students at Martin Luther King\, Jr. Elementary School\, in a... For complete event details please visit:  https://www.aamu.edu/calendar/?eID=3260\n______________________________\nEvent Downloaded Powered by OU Calendar
LOCATION:Martin Luther King Jr Elementary School - 3112 Meridian Street N \, Huntsville\, AL USA 35811
CATEGORIES:AAMU Calendar Events
PRIORITY:0
TRANSP:TRANSPARENT
END:VEVENT
END:VCALENDAR