BEGIN:VCALENDAR
VERSION:2.0
METHOD:PUBLISH
CALSCALE:GREGORIAN
PRODID:-//Helios Calendar//EN
X-FROM-URL:https://www.aamu.edu/calendar/index.php?eID=3261
X-WR-RELCALID:AAMU Calendar 2022 International Education Week 'International Food' Dining Menu in Wilson Dining Hall 20221114T110000
X-WR-TIMEZONE:Europe/London
X-WR-CALNAME:AAMU Calendar
BEGIN:VEVENT
URL;VALUE=URI:https://www.aamu.edu/calendar/index.php?eID=3261
DTSTART:20221114T110000
DTEND:20221114T140000
SUMMARY:2022 International Education Week 'International Food' Dining Menu in Wilson Dining Hall
DESCRIPTION:Monday November 14\, Italian  - Margherita Pizza\, Stuffed Pasta with Marinara SauceTuesday November 15\, Mexican - Beef Enchiladas\, Mexican Rice and Beef TamalesWednesday\, November 16\, Caribbean... For complete event details please visit:  https://www.aamu.edu/calendar/?eID=3261\n______________________________\nEvent Downloaded Powered by OU Calendar
LOCATION:Wilson Dining Hall - 4900 Meridian Street Meridian Street\, Normal\,\, AL USA 35762
CATEGORIES:AAMU Calendar Events
PRIORITY:0
TRANSP:TRANSPARENT
END:VEVENT
END:VCALENDAR