BEGIN:VCALENDAR
VERSION:2.0
METHOD:PUBLISH
CALSCALE:GREGORIAN
PRODID:-//Helios Calendar//EN
X-FROM-URL:https://www.aamu.edu/calendar/index.php?eID=3262
X-WR-RELCALID:AAMU Calendar 2022 International Education Week 'Filing Taxes' Virtual Discussion 20221117T123000
X-WR-TIMEZONE:Europe/London
X-WR-CALNAME:AAMU Calendar
BEGIN:VEVENT
URL;VALUE=URI:https://www.aamu.edu/calendar/index.php?eID=3262
DTSTART:20221117T123000
DTEND:20221117T123000
SUMMARY:2022 International Education Week 'Filing Taxes' Virtual Discussion
DESCRIPTION:International Students will have a discussion with a Tax Expert that will address their unique needs and requirements needed to file their US Taxes  while in school.  For complete event details please visit:  https://www.aamu.edu/calendar/?eID=3262\n______________________________\nEvent Downloaded Powered by OU Calendar
LOCATION:Virtual - NA NA\, NA\, AL NA NA
CATEGORIES:AAMU Calendar Events
PRIORITY:0
TRANSP:TRANSPARENT
END:VEVENT
END:VCALENDAR