BEGIN:VCALENDAR
VERSION:2.0
METHOD:PUBLISH
CALSCALE:GREGORIAN
PRODID:-//Helios Calendar//EN
X-FROM-URL:https://www.aamu.edu/calendar/index.php?eID=3263
X-WR-RELCALID:AAMU Calendar 2022 International Education Week 'Cultural Mixer' at Knight Center 20221117T180000
X-WR-TIMEZONE:Europe/London
X-WR-CALNAME:AAMU Calendar
BEGIN:VEVENT
URL;VALUE=URI:https://www.aamu.edu/calendar/index.php?eID=3263
DTSTART:20221117T180000
DTEND:20221117T200000
SUMMARY:2022 International Education Week 'Cultural Mixer' at Knight Center
DESCRIPTION:A Celebration of the International Community as seen through an International Fashion Show and Cultural Chinese dancing. Along with other participants showcasing the different Countries represented... For complete event details please visit:  https://www.aamu.edu/calendar/?eID=3263\n______________________________\nEvent Downloaded Powered by OU Calendar
LOCATION:Ernest Knight Reception Center -  \, \, AL  
CATEGORIES:AAMU Calendar Events
PRIORITY:0
TRANSP:TRANSPARENT
END:VEVENT
END:VCALENDAR