BEGIN:VCALENDAR
VERSION:2.0
METHOD:PUBLISH
CALSCALE:GREGORIAN
PRODID:-//Helios Calendar//EN
X-FROM-URL:https://www.aamu.edu/calendar/index.php?eID=3264
X-WR-RELCALID:AAMU Calendar 2022 International Education Week 'Chinese Cuisine' Workshop 20221117T213000
X-WR-TIMEZONE:Europe/London
X-WR-CALNAME:AAMU Calendar
BEGIN:VEVENT
URL;VALUE=URI:https://www.aamu.edu/calendar/index.php?eID=3264
DTSTART:20221117T213000
DTEND:20221118T122000
SUMMARY:2022 International Education Week 'Chinese Cuisine' Workshop
DESCRIPTION:A Workshop where International Students/Faculty/Staff are encouraged to learn how to make Chinese Cuisine. This is through a partnership between Food and Consumer Science\, CCRGI and ISA in... For complete event details please visit:  https://www.aamu.edu/calendar/?eID=3264\n______________________________\nEvent Downloaded Powered by OU Calendar
LOCATION:Carver Complex Hobson Wing -  \, \, AL  
CATEGORIES:AAMU Calendar Events
PRIORITY:0
TRANSP:TRANSPARENT
END:VEVENT
END:VCALENDAR