BEGIN:VCALENDAR
VERSION:2.0
METHOD:PUBLISH
CALSCALE:GREGORIAN
PRODID:-//Helios Calendar//EN
X-FROM-URL:https://www.aamu.edu/calendar/index.php?eID=3293
X-WR-RELCALID:AAMU Calendar Blackboard Ultra Learning Day 20230201T090000
X-WR-TIMEZONE:Europe/London
X-WR-CALNAME:AAMU Calendar
BEGIN:VEVENT
URL;VALUE=URI:https://www.aamu.edu/calendar/index.php?eID=3293
DTSTART:20230201T090000
DTEND:20230201T100000
SUMMARY:Blackboard Ultra Learning Day
DESCRIPTION:Blackboard Learn Ultra Roadmap Update: Discover the new wave of innovation for Blackboard Learn. Join our product management leaders as they provide an update on the Blackboard Learn Roadmap9:00AM... For complete event details please visit:  https://www.aamu.edu/calendar/?eID=3293\n______________________________\nEvent Downloaded Powered by OU Calendar
LOCATION:ODEES -  \, \,   
CATEGORIES:AAMU Calendar Events
PRIORITY:0
TRANSP:TRANSPARENT
END:VEVENT
END:VCALENDAR