BEGIN:VCALENDAR
VERSION:2.0
METHOD:PUBLISH
CALSCALE:GREGORIAN
PRODID:-//Helios Calendar//EN
X-FROM-URL:https://www.aamu.edu/calendar/index.php?eID=4211
X-WR-RELCALID:AAMU Calendar Urban Green: Back-2-Basics Online Gardening & Landscaping Series 20250528T100000
X-WR-TIMEZONE:Europe/London
X-WR-CALNAME:AAMU Calendar
BEGIN:VEVENT
URL;VALUE=URI:https://www.aamu.edu/calendar/index.php?eID=4211
DTSTART:20250528T100000
DTEND:20250528T110000
SUMMARY:Urban Green: Back-2-Basics Online Gardening & Landscaping Series
DESCRIPTION:Join the Alabama Cooperative Extension System's Home Horticulture team for the Urban Green: Back 2 Basics Wednesdays webinar series. This live online educational series provides basic gardening and... For complete event details please visit:  https://www.aamu.edu/calendar/?eID=4211\n______________________________\nEvent Downloaded Powered by OU Calendar
LOCATION:Zoom Meeting - Zoom Meeting \, Huntsville\, AL  35810
CATEGORIES:AAMU Calendar Events
PRIORITY:0
TRANSP:TRANSPARENT
END:VEVENT
END:VCALENDAR