BEGIN:VCALENDAR
VERSION:2.0
METHOD:PUBLISH
CALSCALE:GREGORIAN
PRODID:-//Helios Calendar//EN
X-FROM-URL:https://www.aamu.edu/calendar/index.php?eID=4221
X-WR-RELCALID:AAMU Calendar Go Getter: Workforce & Entrepreneurship Online Series 20250512T173000
X-WR-TIMEZONE:Europe/London
X-WR-CALNAME:AAMU Calendar
BEGIN:VEVENT
URL;VALUE=URI:https://www.aamu.edu/calendar/index.php?eID=4221
DTSTART:20250512T173000
DTEND:20250512T193000
SUMMARY:Go Getter: Workforce & Entrepreneurship Online Series
DESCRIPTION:Join members of the Alabama Cooperative Extension System's Community Resource Development team online or in person in Montgomery on Mondays from 5:30 to 7:30 PM - April-May 2025.Go-Getter Pathways... For complete event details please visit:  https://www.aamu.edu/calendar/?eID=4221\n______________________________\nEvent Downloaded Powered by OU Calendar
LOCATION:Zoom Meeting - Zoom Meeting \, Huntsville\, AL  35810
CATEGORIES:AAMU Calendar Events
PRIORITY:0
TRANSP:TRANSPARENT
END:VEVENT
END:VCALENDAR