BEGIN:VCALENDAR
VERSION:2.0
METHOD:PUBLISH
CALSCALE:GREGORIAN
PRODID:-//Helios Calendar//EN
X-FROM-URL:https://www.aamu.edu/calendar/index.php?eID=4226
X-WR-RELCALID:AAMU Calendar Eco-Friendly Fridays Environmental Series 20250509T110000
X-WR-TIMEZONE:Europe/London
X-WR-CALNAME:AAMU Calendar
BEGIN:VEVENT
URL;VALUE=URI:https://www.aamu.edu/calendar/index.php?eID=4226
DTSTART:20250509T110000
DTEND:20250509T120000
SUMMARY:Eco-Friendly Fridays Environmental Series
DESCRIPTION:Join the Alabama Cooperative Extension System's Natural Resources Team online on the second Friday of each month for Eco-Friendly Fridays.Eco-Friendly Fridays is an environmental education webinar... For complete event details please visit:  https://www.aamu.edu/calendar/?eID=4226\n______________________________\nEvent Downloaded Powered by OU Calendar
LOCATION:Facebook -  \, \,   
CATEGORIES:AAMU Calendar Events
PRIORITY:0
TRANSP:TRANSPARENT
END:VEVENT
END:VCALENDAR