BEGIN:VCALENDAR
VERSION:2.0
METHOD:PUBLISH
CALSCALE:GREGORIAN
PRODID:-//Helios Calendar//EN
X-FROM-URL:https://www.aamu.edu/calendar/index.php?eID=4311
X-WR-RELCALID:AAMU Calendar Last Day to Drop Classes and Withdraw from the University 20260721
X-WR-TIMEZONE:Europe/London
X-WR-CALNAME:AAMU Calendar
BEGIN:VEVENT
URL;VALUE=URI:https://www.aamu.edu/calendar/index.php?eID=4311
DTSTART;VALUE=DATE:20260721
DTEND;VALUE=DATE:20260722
SUMMARY:Last Day to Drop Classes and Withdraw from the University
DESCRIPTION:Last Day to Drop Classes and Withdraw from the University For complete event details please visit:  https://www.aamu.edu/calendar/?eID=4311\n______________________________\nEvent Downloaded Powered by OU Calendar
LOCATION:AAMU Campus - 4900 Meridian Street \, Huntsville\, AL USA 35811
CATEGORIES:AAMU Calendar Events
PRIORITY:0
TRANSP:TRANSPARENT
END:VEVENT
END:VCALENDAR