BEGIN:VCALENDAR
VERSION:2.0
METHOD:PUBLISH
CALSCALE:GREGORIAN
PRODID:-//Helios Calendar//EN
X-FROM-URL:https://www.aamu.edu/calendar/index.php?eID=4319
X-WR-RELCALID:AAMU Calendar Summer School housing Application Opens 20250514T210000
X-WR-TIMEZONE:Europe/London
X-WR-CALNAME:AAMU Calendar
BEGIN:VEVENT
URL;VALUE=URI:https://www.aamu.edu/calendar/index.php?eID=4319
DTSTART:20250514T210000
DTEND:20250514T210000
SUMMARY:Summer School housing Application Opens
DESCRIPTION:The application will be available for a limited period due to restricted capacity for the summer session. Hugine Complex is the designated residential facility for students during this time. For complete event details please visit:  https://www.aamu.edu/calendar/?eID=4319\n______________________________\nEvent Downloaded Powered by OU Calendar
LOCATION:Alabama A&M University - 4900 Meridian St. \, Huntsville\, AL  35811
CATEGORIES:AAMU Calendar Events
PRIORITY:0
TRANSP:TRANSPARENT
END:VEVENT
END:VCALENDAR