BEGIN:VCALENDAR
VERSION:2.0
METHOD:PUBLISH
CALSCALE:GREGORIAN
PRODID:-//Helios Calendar//EN
X-FROM-URL:https://www.aamu.edu/calendar/index.php?eID=4321
X-WR-RELCALID:AAMU Calendar Mental Health: Turn Awareness Into Action 20250614T100000
X-WR-TIMEZONE:Europe/London
X-WR-CALNAME:AAMU Calendar
BEGIN:VEVENT
URL;VALUE=URI:https://www.aamu.edu/calendar/index.php?eID=4321
DTSTART:20250614T100000
DTEND:20250614T120000
SUMMARY:Mental Health: Turn Awareness Into Action
DESCRIPTION:The Alabama Cooperative Extension System and First Missionary Baptist Church will host a mental health program called Turn Awareness into Action. When life as we know it is challenged daily\,... For complete event details please visit:  https://www.aamu.edu/calendar/?eID=4321\n______________________________\nEvent Downloaded Powered by OU Calendar
LOCATION:First Missionary Baptist Church - 3509 Blue Spring Rd NW \, Huntsville\, AL United States 35810
CATEGORIES:AAMU Calendar Events
PRIORITY:0
TRANSP:TRANSPARENT
END:VEVENT
END:VCALENDAR