BEGIN:VCALENDAR
VERSION:2.0
METHOD:PUBLISH
CALSCALE:GREGORIAN
PRODID:-//Helios Calendar//EN
X-FROM-URL:https://www.aamu.edu/calendar/index.php?eID=4361
X-WR-RELCALID:AAMU Calendar Meaningful Monday: Estate Planning Series 20250616T160000
X-WR-TIMEZONE:Europe/London
X-WR-CALNAME:AAMU Calendar
BEGIN:VEVENT
URL;VALUE=URI:https://www.aamu.edu/calendar/index.php?eID=4361
DTSTART:20250616T160000
DTEND:20250616T170000
SUMMARY:Meaningful Monday: Estate Planning Series
DESCRIPTION:Meaningful Monday is a weekly estate planning series offered through the Virginia Caples Lifelong Learning Institute. Learn what estate planning is and what documents you need to complete your estate... For complete event details please visit:  https://www.aamu.edu/calendar/?eID=4361\n______________________________\nEvent Downloaded Powered by OU Calendar
LOCATION:Zoom Meeting - Zoom Meeting \, Huntsville\, AL  35810
CATEGORIES:AAMU Calendar Events
PRIORITY:0
TRANSP:TRANSPARENT
END:VEVENT
END:VCALENDAR