BEGIN:VCALENDAR
VERSION:2.0
METHOD:PUBLISH
CALSCALE:GREGORIAN
PRODID:-//Helios Calendar//EN
X-FROM-URL:https://www.aamu.edu/calendar/index.php?eID=4401
X-WR-RELCALID:AAMU Calendar Homecoming Week 20251006T080000
X-WR-TIMEZONE:Europe/London
X-WR-CALNAME:AAMU Calendar
BEGIN:VEVENT
URL;VALUE=URI:https://www.aamu.edu/calendar/index.php?eID=4401
DTSTART:20251006T080000
DTEND:20251006T080000
SUMMARY:Homecoming Week
DESCRIPTION:Celebrate Homecoming with us through a week of engaging\, interactive events that will reignite your Bulldog Pride! For complete event details please visit:  https://www.aamu.edu/calendar/?eID=4401\n______________________________\nEvent Downloaded Powered by OU Calendar
LOCATION:Various Locations - 4900 Meridian Street N \, Huntsville\, AL United States 35811
CATEGORIES:AAMU Calendar Events
PRIORITY:0
TRANSP:TRANSPARENT
END:VEVENT
END:VCALENDAR