BEGIN:VCALENDAR
VERSION:2.0
METHOD:PUBLISH
CALSCALE:GREGORIAN
PRODID:-//Helios Calendar//EN
X-FROM-URL:https://www.aamu.edu/calendar/index.php?eID=4424
X-WR-RELCALID:AAMU Calendar Homecoming Gospel Explosion 20251005T180000
X-WR-TIMEZONE:Europe/London
X-WR-CALNAME:AAMU Calendar
BEGIN:VEVENT
URL;VALUE=URI:https://www.aamu.edu/calendar/index.php?eID=4424
DTSTART:20251005T180000
DTEND:20251005T210000
SUMMARY:Homecoming Gospel Explosion
DESCRIPTION:Get ready for a powerful night of worship\, praise\, and inspiration at this year’s Homecoming Gospel Explosion! Join us for an unforgettable evening featuring electrifying performances from award-winning... For complete event details please visit:  https://www.aamu.edu/calendar/?eID=4424\n______________________________\nEvent Downloaded Powered by OU Calendar
LOCATION:Event Center - 4200 Memorial Parkway \, Huntsville\, AL  35811-7500
CATEGORIES:AAMU Calendar Events
PRIORITY:0
TRANSP:TRANSPARENT
END:VEVENT
END:VCALENDAR