BEGIN:VCALENDAR
VERSION:2.0
METHOD:PUBLISH
CALSCALE:GREGORIAN
PRODID:-//Helios Calendar//EN
X-FROM-URL:https://www.aamu.edu/calendar/index.php?eID=4425
X-WR-RELCALID:AAMU Calendar Wreath Laying Ceremony 20251006T100000
X-WR-TIMEZONE:Europe/London
X-WR-CALNAME:AAMU Calendar
BEGIN:VEVENT
URL;VALUE=URI:https://www.aamu.edu/calendar/index.php?eID=4425
DTSTART:20251006T100000
DTEND:20251006T110000
SUMMARY:Wreath Laying Ceremony
DESCRIPTION:Honoring the Legacy of Our FounderJoin us for the Wreath Laying Ceremony\, a cherished Homecoming tradition that honors the life and legacy of Dr. William Hooper Councill\, the esteemed founder of... For complete event details please visit:  https://www.aamu.edu/calendar/?eID=4425\n______________________________\nEvent Downloaded Powered by OU Calendar
LOCATION:Councill Gravesite - 4900 Meridian Street N \, Huntsville\, AL United States 35811
CATEGORIES:AAMU Calendar Events
PRIORITY:0
TRANSP:TRANSPARENT
END:VEVENT
END:VCALENDAR