BEGIN:VCALENDAR
VERSION:2.0
METHOD:PUBLISH
CALSCALE:GREGORIAN
PRODID:-//Helios Calendar//EN
X-FROM-URL:https://www.aamu.edu/calendar/index.php?eID=4429
X-WR-RELCALID:AAMU Calendar Homecoming Alumni Golf Tournament 20251009T080000
X-WR-TIMEZONE:Europe/London
X-WR-CALNAME:AAMU Calendar
BEGIN:VEVENT
URL;VALUE=URI:https://www.aamu.edu/calendar/index.php?eID=4429
DTSTART:20251009T080000
DTEND:20251009T120000
SUMMARY:Homecoming Alumni Golf Tournament
DESCRIPTION:Swing into Homecoming Weekend with Bulldog Pride!Join fellow alumni for a day on the green at the annual Alumni Golf Tournament—a Homecoming tradition that combines friendly competition\, networking\,... For complete event details please visit:  https://www.aamu.edu/calendar/?eID=4429\n______________________________\nEvent Downloaded Powered by OU Calendar
LOCATION:Robert Trent Jones Golf Trail at Hampton Cove - 450 Old Hwy 431 \, Owens Cross Roads\, AL  35763
CATEGORIES:AAMU Calendar Events
PRIORITY:0
TRANSP:TRANSPARENT
END:VEVENT
END:VCALENDAR