BEGIN:VCALENDAR
VERSION:2.0
METHOD:PUBLISH
CALSCALE:GREGORIAN
PRODID:-//Helios Calendar//EN
X-FROM-URL:https://www.aamu.edu/calendar/index.php?eID=4430
X-WR-RELCALID:AAMU Calendar Homecoming Faculty/Staff Yard Show 20251009T123000
X-WR-TIMEZONE:Europe/London
X-WR-CALNAME:AAMU Calendar
BEGIN:VEVENT
URL;VALUE=URI:https://www.aamu.edu/calendar/index.php?eID=4430
DTSTART:20251009T123000
DTEND:20251009T140000
SUMMARY:Homecoming Faculty/Staff Yard Show
DESCRIPTION:The Tables Have Turned… and the Yard is Watching!You’ve seen the students hit the stage—now it’s the faculty and staff’s turn to show out! Join us for the Faculty... For complete event details please visit:  https://www.aamu.edu/calendar/?eID=4430\n______________________________\nEvent Downloaded Powered by OU Calendar
LOCATION:AAMU Campus Quad - 4900 Meridian Street NW \, Normal\, AL USA 35762
CATEGORIES:AAMU Calendar Events
PRIORITY:0
TRANSP:TRANSPARENT
END:VEVENT
END:VCALENDAR