BEGIN:VCALENDAR
VERSION:2.0
METHOD:PUBLISH
CALSCALE:GREGORIAN
PRODID:-//Helios Calendar//EN
X-FROM-URL:https://www.aamu.edu/calendar/index.php?eID=4431
X-WR-RELCALID:AAMU Calendar Alumni Pep Rally & Homecoming Mixer 20251009T180000
X-WR-TIMEZONE:Europe/London
X-WR-CALNAME:AAMU Calendar
BEGIN:VEVENT
URL;VALUE=URI:https://www.aamu.edu/calendar/index.php?eID=4431
DTSTART:20251009T180000
DTEND:20251009T180000
SUMMARY:Alumni Pep Rally & Homecoming Mixer
DESCRIPTION:Where Tradition Meets CelebrationIt’s time to turn up the spirit and bring the Bulldog energy! Join the National Alumni Association for the Alumni Pep Rally at the Dome at Orion—an electrifying... For complete event details please visit:  https://www.aamu.edu/calendar/?eID=4431\n______________________________\nEvent Downloaded Powered by OU Calendar
LOCATION:The Dome at Orion - 701 Amphitheater Drive NW \, Huntsville\, AL  35806
CATEGORIES:AAMU Calendar Events
PRIORITY:0
TRANSP:TRANSPARENT
END:VEVENT
END:VCALENDAR