BEGIN:VCALENDAR
VERSION:2.0
METHOD:PUBLISH
CALSCALE:GREGORIAN
PRODID:-//Helios Calendar//EN
X-FROM-URL:https://www.aamu.edu/calendar/index.php?eID=4433
X-WR-RELCALID:AAMU Calendar All Class Reunion Scholarship Brunch 20251010T093000
X-WR-TIMEZONE:Europe/London
X-WR-CALNAME:AAMU Calendar
BEGIN:VEVENT
URL;VALUE=URI:https://www.aamu.edu/calendar/index.php?eID=4433
DTSTART:20251010T093000
DTEND:20251010T113000
SUMMARY:All Class Reunion Scholarship Brunch
DESCRIPTION:Honoring the Past. Investing in the Future.Celebrate the legacy of Alabama A&M University with fellow alumni at the All Class Reunion Scholarship Brunch—a meaningful gathering that blends... For complete event details please visit:  https://www.aamu.edu/calendar/?eID=4433\n______________________________\nEvent Downloaded Powered by OU Calendar
LOCATION:Ernest Knight Reception Center -  \, \, AL  
CATEGORIES:AAMU Calendar Events
PRIORITY:0
TRANSP:TRANSPARENT
END:VEVENT
END:VCALENDAR