BEGIN:VCALENDAR
VERSION:2.0
METHOD:PUBLISH
CALSCALE:GREGORIAN
PRODID:-//Helios Calendar//EN
X-FROM-URL:https://www.aamu.edu/calendar/index.php?eID=4435
X-WR-RELCALID:AAMU Calendar Alumni Day Party 20251010T150000
X-WR-TIMEZONE:Europe/London
X-WR-CALNAME:AAMU Calendar
BEGIN:VEVENT
URL;VALUE=URI:https://www.aamu.edu/calendar/index.php?eID=4435
DTSTART:20251010T150000
DTEND:20251010T183000
SUMMARY:Alumni Day Party
DESCRIPTION:Daytime Vibes. Timeless Memories. Bulldog Legacy.Keep the Homecoming energy going strong at the Alumni Day Party—the perfect midday celebration for Bulldogs looking to vibe\, reconnect\, and... For complete event details please visit:  https://www.aamu.edu/calendar/?eID=4435\n______________________________\nEvent Downloaded Powered by OU Calendar
LOCATION:Football Practice Field - 4900 Meridian Street N \, Huntsville\, AL United States 35811
CATEGORIES:AAMU Calendar Events
PRIORITY:0
TRANSP:TRANSPARENT
END:VEVENT
END:VCALENDAR