BEGIN:VCALENDAR
VERSION:2.0
METHOD:PUBLISH
CALSCALE:GREGORIAN
PRODID:-//Helios Calendar//EN
X-FROM-URL:https://www.aamu.edu/calendar/index.php?eID=4436
X-WR-RELCALID:AAMU Calendar NPHC Step Show 20251010T193000
X-WR-TIMEZONE:Europe/London
X-WR-CALNAME:AAMU Calendar
BEGIN:VEVENT
URL;VALUE=URI:https://www.aamu.edu/calendar/index.php?eID=4436
DTSTART:20251010T193000
DTEND:20251010T220000
SUMMARY:NPHC Step Show
DESCRIPTION:Tradition. Precision. Legacy.Get ready for one of the most electrifying events of Homecoming Week—the NPHC Step Show! Witness the Divine Nine take the stage with show-stopping performances\,... For complete event details please visit:  https://www.aamu.edu/calendar/?eID=4436\n______________________________\nEvent Downloaded Powered by OU Calendar
LOCATION:Event Center - 4200 Memorial Parkway \, Huntsville\, AL  35811-7500
CATEGORIES:AAMU Calendar Events
PRIORITY:0
TRANSP:TRANSPARENT
END:VEVENT
END:VCALENDAR