BEGIN:VCALENDAR
VERSION:2.0
METHOD:PUBLISH
CALSCALE:GREGORIAN
PRODID:-//Helios Calendar//EN
X-FROM-URL:https://www.aamu.edu/calendar/index.php?eID=4437
X-WR-RELCALID:AAMU Calendar Alumni Homecoming Affair 20251010T210000
X-WR-TIMEZONE:Europe/London
X-WR-CALNAME:AAMU Calendar
BEGIN:VEVENT
URL;VALUE=URI:https://www.aamu.edu/calendar/index.php?eID=4437
DTSTART:20251010T210000
DTEND:20251010T210000
SUMMARY:Alumni Homecoming Affair
DESCRIPTION:An Elegant Evening of Legacy\, Laughter & Bulldog PrideJoin us for the Alumni Homecoming Affair\, a signature alumni celebration hosted by the Alabama A&M University National Alumni Association.... For complete event details please visit:  https://www.aamu.edu/calendar/?eID=4437\n______________________________\nEvent Downloaded Powered by OU Calendar
LOCATION:Stovehouse - 3414 Governors Dr. SW \, Huntsville\, AL  35805
CATEGORIES:AAMU Calendar Events
PRIORITY:0
TRANSP:TRANSPARENT
END:VEVENT
END:VCALENDAR