BEGIN:VCALENDAR
VERSION:2.0
METHOD:PUBLISH
CALSCALE:GREGORIAN
PRODID:-//Helios Calendar//EN
X-FROM-URL:https://www.aamu.edu/calendar/index.php?eID=4438
X-WR-RELCALID:AAMU Calendar Homecoming Parade  20251011T080000
X-WR-TIMEZONE:Europe/London
X-WR-CALNAME:AAMU Calendar
BEGIN:VEVENT
URL;VALUE=URI:https://www.aamu.edu/calendar/index.php?eID=4438
DTSTART:20251011T080000
DTEND:20251011T100000
SUMMARY:Homecoming Parade 
DESCRIPTION:A Celebration of Bulldog Pride and TraditionJoin us for the Alabama A&M University Homecoming Parade\, one of the most beloved traditions of Homecoming Week! This vibrant\, high-energy event brings... For complete event details please visit:  https://www.aamu.edu/calendar/?eID=4438\n______________________________\nEvent Downloaded Powered by OU Calendar
LOCATION:Meridian Street - 4900 Meridian Street N \, Huntsville\, AL United States 35811
CATEGORIES:AAMU Calendar Events
PRIORITY:0
TRANSP:TRANSPARENT
END:VEVENT
END:VCALENDAR